BEGIN:VCALENDAR
VERSION:2.0
PRODID:SchoolNow
CALSCALE:GREGORIAN
BEGIN:VEVENT
UID:1a8b6042-77b2-11f0-914a-0a58a9feac02
DTSTAMP:20251216T214548Z
SUMMARY:FV Parent/Teacher Conferences
URL;VALUE=URI:https://www.pulaskischools.org/fairview/calendar/8494726/fv-p
 arent-teacher-conferences
DTSTART:20251204T220000Z
DTEND:20251205T020000Z
END:VEVENT
END:VCALENDAR
