BEGIN:VCALENDAR
VERSION:2.0
PRODID:SchoolNow
CALSCALE:GREGORIAN
BEGIN:VEVENT
UID:4f3cc196-73b6-11f0-acba-0a58a9feac02
DTSTAMP:20251216T214548Z
SUMMARY:FV Donuts w/ Grown Ups
URL;VALUE=URI:https://www.pulaskischools.org/fairview/calendar/8479142/fv-d
 onuts-w-grown-ups
DTSTART:20250905T124500Z
DTEND:20250905T133000Z
END:VEVENT
END:VCALENDAR
