BEGIN:VCALENDAR
VERSION:2.0
PRODID:SchoolNow
CALSCALE:GREGORIAN
BEGIN:VEVENT
UID:5a0c1724-72ea-11f0-a904-0a58a9feac02
DTSTAMP:20260421T090016Z
SUMMARY:School Board meeting
LOCATION:DO-MEETINGROOM-1-(15)-[meeting room]\, DO-MEETINGROOM-2-(25)-[meet
 ing room]
URL;VALUE=URI:https://www.pulaskischools.org/fairview/calendar/8476333/scho
 ol-board-meeting
DTSTART:20261217T000000Z
DTEND:20261217T020000Z
END:VEVENT
END:VCALENDAR
