BEGIN:VCALENDAR
VERSION:2.0
PRODID:SchoolNow
CALSCALE:GREGORIAN
BEGIN:VEVENT
UID:60c74d3c-5e99-11f0-b670-0eb1a18b81f3
DTSTAMP:20260421T150517Z
SUMMARY:Board Workshop Meeting
LOCATION:District Office Meeting Room
URL;VALUE=URI:https://www.pulaskischools.org/fairview/calendar/8406206/boar
 d-workshop-meeting
DTSTART:20270304T000000Z
DTEND:20270304T013000Z
END:VEVENT
END:VCALENDAR
