BEGIN:VCALENDAR
VERSION:2.0
PRODID:SchoolNow
CALSCALE:GREGORIAN
BEGIN:VEVENT
UID:8f5973f2-4718-11f0-95df-0a58a9feac02
DTSTAMP:20260421T150517Z
SUMMARY:Board Workshop Meeting
LOCATION:District Office Meeting Room
URL;VALUE=URI:https://www.pulaskischools.org/fairview/calendar/8288183/boar
 d-workshop-meeting
DTSTART:20270204T000000Z
DTEND:20270204T013000Z
END:VEVENT
END:VCALENDAR
