BEGIN:VCALENDAR
VERSION:2.0
PRODID:SchoolNow
CALSCALE:GREGORIAN
BEGIN:VEVENT
UID:d516c44c-4184-11f0-930b-0affef11562d
DTSTAMP:20251216T214548Z
SUMMARY:FV Open House
URL;VALUE=URI:https://www.pulaskischools.org/fairview/calendar/8252904/fv-o
 pen-house
DTSTART:20250826T210000Z
DTEND:20250826T230000Z
END:VEVENT
END:VCALENDAR
