BEGIN:VCALENDAR
VERSION:2.0
PRODID:SchoolNow
CALSCALE:GREGORIAN
BEGIN:VEVENT
UID:e0a483fa-2d00-11f0-bac5-0a58a9feac02
DTSTAMP:20260421T150517Z
SUMMARY:Board Workshop Meeting
LOCATION:District Office Meeting Room
URL;VALUE=URI:https://www.pulaskischools.org/fairview/calendar/8098676/boar
 d-workshop-meeting
DTSTART:20270107T000000Z
DTEND:20270107T013000Z
END:VEVENT
END:VCALENDAR
