BEGIN:VCALENDAR
VERSION:2.0
PRODID:SchoolNow
CALSCALE:GREGORIAN
BEGIN:VEVENT
UID:5ef10040-fa01-11ef-b56b-0affd0be04ed
DTSTAMP:20260421T090016Z
SUMMARY:Board Workshop Meeting
LOCATION:District Office Meeting Room
URL;VALUE=URI:https://www.pulaskischools.org/fairview/calendar/7609344/boar
 d-workshop-meeting
DTSTART:20261105T000000Z
DTEND:20261105T013000Z
END:VEVENT
END:VCALENDAR
