BEGIN:VCALENDAR
VERSION:2.0
PRODID:SchoolNow
CALSCALE:GREGORIAN
BEGIN:VEVENT
UID:b2e56a76-f3a1-11ef-bcf6-0affc0baa8a1
DTSTAMP:20251216T214548Z
SUMMARY:FV Picture Day
URL;VALUE=URI:https://www.pulaskischools.org/fairview/calendar/7546427/fv-p
 icture-day
DTSTART;VALUE=DATE:20250923
DTEND;VALUE=DATE:20250924
END:VEVENT
END:VCALENDAR
