BEGIN:VCALENDAR
VERSION:2.0
PRODID:SchoolNow
CALSCALE:GREGORIAN
BEGIN:VEVENT
UID:7bdf6bba-e3e5-11ef-b12f-0a58a9feac02
DTSTAMP:20260421T025513Z
SUMMARY:Board Workshop Meeting
LOCATION:District Office Meeting Room
URL;VALUE=URI:https://www.pulaskischools.org/fairview/calendar/7426666/boar
 d-workshop-meeting
DTSTART:20260902T230000Z
DTEND:20260903T003000Z
END:VEVENT
END:VCALENDAR
